BEGIN:VCALENDAR
VERSION:2.0
PRODID:-//LISMORE WOMEN - ECPv4.6.11.1//NONSGML v1.0//EN
CALSCALE:GREGORIAN
METHOD:PUBLISH
X-WR-CALNAME:LISMORE WOMEN
X-ORIGINAL-URL:https://www.lismorewomen.org.au
X-WR-CALDESC:Events for LISMORE WOMEN
BEGIN:VEVENT
DTSTART;TZID=UTC+0:20180308T113000
DTEND;TZID=UTC+0:20180308T143000
DTSTAMP:20180226T161154
CREATED:20180222T014617Z
LAST-MODIFIED:20180222T014617Z
UID:1320-1520508600-1520519400@www.lismorewomen.org.au
SUMMARY:Lismore Women's Health - Celebrating 30 Years
DESCRIPTION:LWHRC 30th Celebration 2018 \n 
URL:https://www.lismorewomen.org.au/event/lismore-womens-health-celebrating-30-years/
END:VEVENT
END:VCALENDAR